



BEGIN:VCALENDAR
VERSION:2.0
PRODID:-//Fundación Valle del Lili - ECPv6.15.13//NONSGML v1.0//EN
CALSCALE:GREGORIAN
METHOD:PUBLISH
X-WR-CALNAME:Fundación Valle del Lili
X-ORIGINAL-URL:https://valledellili.org
X-WR-CALDESC:Eventos para Fundación Valle del Lili
REFRESH-INTERVAL;VALUE=DURATION:PT1H
X-Robots-Tag:noindex
X-PUBLISHED-TTL:PT1H
BEGIN:VTIMEZONE
TZID:America/Bogota
BEGIN:STANDARD
TZOFFSETFROM:-0500
TZOFFSETTO:-0500
TZNAME:-05
DTSTART:20210101T000000
END:STANDARD
END:VTIMEZONE
BEGIN:VEVENT
DTSTART;TZID=America/Bogota:20221026T080000
DTEND;TZID=America/Bogota:20221105T170000
DTSTAMP:20260425T114436
CREATED:20220908T193432Z
LAST-MODIFIED:20221111T140040Z
UID:31145-1666771200-1667667600@valledellili.org
SUMMARY:XV Congreso internacional de cardiología - CardioLili 2022
DESCRIPTION:
URL:https://valledellili.org/evento/xv-congreso-internacional-de-cardiologia-cardiolili-2022/
LOCATION:Transmisión en vivo
CATEGORIES:Educación,Eventos
ATTACH;FMTTYPE=image/png:https://valledellili.org/wp-content/uploads/2022/09/BANNERS-Cardio-lili-2022-WEB-EXT.png
ORGANIZER;CN="Organiza Fundaci%C3%B3n Valle del Lili":MAILTO:info@valledellili.org
END:VEVENT
END:VCALENDAR