



BEGIN:VCALENDAR
VERSION:2.0
PRODID:-//Fundación Valle del Lili - ECPv6.15.13//NONSGML v1.0//EN
CALSCALE:GREGORIAN
METHOD:PUBLISH
X-WR-CALNAME:Fundación Valle del Lili
X-ORIGINAL-URL:https://valledellili.org
X-WR-CALDESC:Eventos para Fundación Valle del Lili
REFRESH-INTERVAL;VALUE=DURATION:PT1H
X-Robots-Tag:noindex
X-PUBLISHED-TTL:PT1H
BEGIN:VTIMEZONE
TZID:America/Bogota
BEGIN:STANDARD
TZOFFSETFROM:-0500
TZOFFSETTO:-0500
TZNAME:-05
DTSTART:20220101T000000
END:STANDARD
END:VTIMEZONE
BEGIN:VEVENT
DTSTART;TZID=America/Bogota:20230607T080000
DTEND;TZID=America/Bogota:20230607T090000
DTSTAMP:20260424T222117
CREATED:20230518T170015Z
LAST-MODIFIED:20230518T162315Z
UID:36676-1686124800-1686128400@valledellili.org
SUMMARY:Evento: Cuidado y prevención en el pie diabético
DESCRIPTION:
URL:https://valledellili.org/evento/cuidado-y-prevencion-en-el-pie-diabetico/
LOCATION:Sala múltiple 4\, Avenida Simón Bolivar Carrera 98 # 18-49\, Cali\, Valle del Cauca\, Colombia
CATEGORIES:Educación
ATTACH;FMTTYPE=image/jpeg:https://valledellili.org/wp-content/uploads/2023/05/cuidados-y-prevencion-en-el-pie-diabetico.jpg
END:VEVENT
END:VCALENDAR