



BEGIN:VCALENDAR
VERSION:2.0
PRODID:-//Fundación Valle del Lili - ECPv6.15.13//NONSGML v1.0//EN
CALSCALE:GREGORIAN
METHOD:PUBLISH
X-ORIGINAL-URL:https://valledellili.org
X-WR-CALDESC:Eventos para Fundación Valle del Lili
REFRESH-INTERVAL;VALUE=DURATION:PT1H
X-Robots-Tag:noindex
X-PUBLISHED-TTL:PT1H
BEGIN:VTIMEZONE
TZID:America/Bogota
BEGIN:STANDARD
TZOFFSETFROM:-0500
TZOFFSETTO:-0500
TZNAME:-05
DTSTART:20220101T000000
END:STANDARD
END:VTIMEZONE
BEGIN:VEVENT
DTSTART;TZID=America/Bogota:20230831T080000
DTEND;TZID=America/Bogota:20230831T170000
DTSTAMP:20260424T172437
CREATED:20230614T195540Z
LAST-MODIFIED:20230623T202404Z
UID:37011-1693468800-1693501200@valledellili.org
SUMMARY:Seminario de Auditoria Médica: un paradigma administrativo en el desenlace clínico
DESCRIPTION:
URL:https://valledellili.org/evento/seminario-auditoria-med-2023/
LOCATION:Transmisión en vivo
CATEGORIES:Educación,Eventos
ATTACH;FMTTYPE=image/png:https://valledellili.org/wp-content/uploads/2023/06/Auditoria-med.-2023-WEB-1.png
ORGANIZER;CN="Organiza Fundaci%C3%B3n Valle del Lili":MAILTO:info@valledellili.org
END:VEVENT
END:VCALENDAR