



BEGIN:VCALENDAR
VERSION:2.0
PRODID:-//Fundación Valle del Lili - ECPv6.15.13//NONSGML v1.0//EN
CALSCALE:GREGORIAN
METHOD:PUBLISH
X-ORIGINAL-URL:https://valledellili.org
X-WR-CALDESC:Eventos para Fundación Valle del Lili
REFRESH-INTERVAL;VALUE=DURATION:PT1H
X-Robots-Tag:noindex
X-PUBLISHED-TTL:PT1H
BEGIN:VTIMEZONE
TZID:America/Bogota
BEGIN:STANDARD
TZOFFSETFROM:-0500
TZOFFSETTO:-0500
TZNAME:-05
DTSTART:20220101T000000
END:STANDARD
END:VTIMEZONE
BEGIN:VEVENT
DTSTART;TZID=America/Bogota:20230915T080000
DTEND;TZID=America/Bogota:20230915T130000
DTSTAMP:20260424T172444
CREATED:20230829T201923Z
LAST-MODIFIED:20230911T214021Z
UID:38038-1694764800-1694782800@valledellili.org
SUMMARY:15° Día Internacional de la Seguridad del Paciente
DESCRIPTION:
URL:https://valledellili.org/evento/15-dia-inter-seguridad-paciente/
LOCATION:Auditorio Principal Carlos Ardila Lulle\, Avenida Simón Bolivar Carrera 98 # 18-49\, Cali\, Valle\, Colombia
ATTACH;FMTTYPE=image/png:https://valledellili.org/wp-content/uploads/2023/08/Seguridad-del-Paciente-2023-WEB-2.png
END:VEVENT
END:VCALENDAR