



BEGIN:VCALENDAR
VERSION:2.0
PRODID:-//Fundación Valle del Lili - ECPv6.15.13//NONSGML v1.0//EN
CALSCALE:GREGORIAN
METHOD:PUBLISH
X-WR-CALNAME:Fundación Valle del Lili
X-ORIGINAL-URL:https://valledellili.org
X-WR-CALDESC:Eventos para Fundación Valle del Lili
REFRESH-INTERVAL;VALUE=DURATION:PT1H
X-Robots-Tag:noindex
X-PUBLISHED-TTL:PT1H
BEGIN:VTIMEZONE
TZID:America/Bogota
BEGIN:STANDARD
TZOFFSETFROM:-0500
TZOFFSETTO:-0500
TZNAME:-05
DTSTART:20220101T000000
END:STANDARD
END:VTIMEZONE
BEGIN:VEVENT
DTSTART;TZID=America/Bogota:20230921T080000
DTEND;TZID=America/Bogota:20230922T180000
DTSTAMP:20260424T172322
CREATED:20230725T194806Z
LAST-MODIFIED:20230920T194228Z
UID:37439-1695283200-1695405600@valledellili.org
SUMMARY:5° Simposio de Actualización en el Cuidado Perinatal
DESCRIPTION:
URL:https://valledellili.org/evento/5-simposio-de-actualizacion-en-el-cuidado-perinatal/
LOCATION:Auditorio Principal Carlos Ardila Lulle\, Avenida Simón Bolivar Carrera 98 # 18-49\, Cali\, Valle\, Colombia
CATEGORIES:Educación,Eventos
ATTACH;FMTTYPE=image/png:https://valledellili.org/wp-content/uploads/2023/07/5to-simposio-de-cuidado-perinatal-WEB-2.png
END:VEVENT
END:VCALENDAR