



BEGIN:VCALENDAR
VERSION:2.0
PRODID:-//Fundación Valle del Lili - ECPv6.15.13//NONSGML v1.0//EN
CALSCALE:GREGORIAN
METHOD:PUBLISH
X-WR-CALNAME:Fundación Valle del Lili
X-ORIGINAL-URL:https://valledellili.org
X-WR-CALDESC:Eventos para Fundación Valle del Lili
REFRESH-INTERVAL;VALUE=DURATION:PT1H
X-Robots-Tag:noindex
X-PUBLISHED-TTL:PT1H
BEGIN:VTIMEZONE
TZID:America/Bogota
BEGIN:STANDARD
TZOFFSETFROM:-0500
TZOFFSETTO:-0500
TZNAME:-05
DTSTART:20220101T000000
END:STANDARD
END:VTIMEZONE
BEGIN:VEVENT
DTSTART;TZID=America/Bogota:20231012T050000
DTEND;TZID=America/Bogota:20231012T190000
DTSTAMP:20260424T172300
CREATED:20230925T215033Z
LAST-MODIFIED:20230925T215946Z
UID:38547-1697086800-1697137200@valledellili.org
SUMMARY:Ceremonia de la luz al donante - 2023
DESCRIPTION:Desde la unidad de donación y trasplantes de órganos de la Fundación Valle del Lili\, se dan los agradecimientos a los verdaderos artífices del milagro de los trasplantes. Enalteciendo a los donantes y sus familias\, por tomar la decisión altruista y generosa de pensar en dar vida a los demás. \nCada año\, se desea realizar una invitación especial a toda la comunidad que quiera participar en un merecido homenaje a estos héroes anónimos y sus familias\, con un evento al que llamamos la Ceremonia de la Luz al Donante que se llevará a cabo este 12 de octubre del 2023 de 5:00 a 6:30 pm en el auditorio principal de la Fundación Valle Del Lili\, contamos con su participación para que cada día sean más los artífices de vida. \n\n¡Te esperamos para que juntos agradezcamos a los donantes y sus familias! \nCupo limitado
URL:https://valledellili.org/evento/ceremonia-luz-al-donante-2023/
LOCATION:Auditorio Principal Carlos Ardila Lulle\, Avenida Simón Bolivar Carrera 98 # 18-49\, Cali\, Valle\, Colombia
CATEGORIES:Educación,Eventos
ATTACH;FMTTYPE=image/png:https://valledellili.org/wp-content/uploads/2023/09/ceremonia-de-la-luz-WEB-2.png
END:VEVENT
END:VCALENDAR