



BEGIN:VCALENDAR
VERSION:2.0
PRODID:-//Fundación Valle del Lili - ECPv6.15.13//NONSGML v1.0//EN
CALSCALE:GREGORIAN
METHOD:PUBLISH
X-WR-CALNAME:Fundación Valle del Lili
X-ORIGINAL-URL:https://valledellili.org
X-WR-CALDESC:Eventos para Fundación Valle del Lili
REFRESH-INTERVAL;VALUE=DURATION:PT1H
X-Robots-Tag:noindex
X-PUBLISHED-TTL:PT1H
BEGIN:VTIMEZONE
TZID:America/Bogota
BEGIN:STANDARD
TZOFFSETFROM:-0500
TZOFFSETTO:-0500
TZNAME:-05
DTSTART:20220101T000000
END:STANDARD
END:VTIMEZONE
BEGIN:VEVENT
DTSTART;TZID=America/Bogota:20231019T180000
DTEND;TZID=America/Bogota:20231019T210000
DTSTAMP:20260424T172304
CREATED:20231002T212316Z
LAST-MODIFIED:20231004T215501Z
UID:38719-1697738400-1697749200@valledellili.org
SUMMARY:Noche Rosada 2023
DESCRIPTION:¡Es un placer invitarte a la Noche Rosada 2023! Un evento dedicado a las mujeres que aman la vida y que se preocupan por su bienestar. Este octubre\, el día 19\, celebraremos la decimonovena versión de esta maravillosa velada. \nEn esta ocasión\, nuestro enfoque está en buscar el bienestar de las pacientes con cáncer de mama. Acompáñanos a las 6:00 p.m. en el Auditorio Principal Carlos Ardila Lulle. Ten en cuenta que el aforo es limitado\, así que asegura tu lugar separando tu cupo en el enlace que proporcionamos. \nNo importa si estás cerca o lejos\, queremos que todos se unan a esta causa. Por eso\, también tendremos transmisión en vivo para que puedas ser parte de este evento desde cualquier lugar. \nTe esperamos en la Noche Rosada 2023.  \n\n\nRequisitos: Asistir con camiseta fucsia o rosada.\nFecha: Octubre 19 de 2023\nHora: 6:00 p.m.\nLugar: Auditorio Principal Carlos Ardila Lulle – Sede Principal\nLink  de Registro: https://peewah.co/events/noche-rosada-2023\n\n  \n 
URL:https://valledellili.org/evento/noche-rosada-2023/
LOCATION:Auditorio Principal Carlos Ardila Lulle\, Avenida Simón Bolivar Carrera 98 # 18-49\, Cali\, Valle\, Colombia
CATEGORIES:Paciente
ATTACH;FMTTYPE=image/png:https://valledellili.org/wp-content/uploads/2023/10/820x480.png
END:VEVENT
END:VCALENDAR