



BEGIN:VCALENDAR
VERSION:2.0
PRODID:-//Fundación Valle del Lili - ECPv6.15.13//NONSGML v1.0//EN
CALSCALE:GREGORIAN
METHOD:PUBLISH
X-ORIGINAL-URL:https://valledellili.org
X-WR-CALDESC:Eventos para Fundación Valle del Lili
REFRESH-INTERVAL;VALUE=DURATION:PT1H
X-Robots-Tag:noindex
X-PUBLISHED-TTL:PT1H
BEGIN:VTIMEZONE
TZID:America/Bogota
BEGIN:STANDARD
TZOFFSETFROM:-0500
TZOFFSETTO:-0500
TZNAME:-05
DTSTART:20230101T000000
END:STANDARD
END:VTIMEZONE
BEGIN:VEVENT
DTSTART;TZID=America/Bogota:20240419T073000
DTEND;TZID=America/Bogota:20240419T130000
DTSTAMP:20260424T055852
CREATED:20240405T192609Z
LAST-MODIFIED:20240417T200651Z
UID:41989-1713511800-1713531600@valledellili.org
SUMMARY:Simposio Colección Lili: Reevaluando el propósito de la educación escolar frente a la enfermedad
DESCRIPTION:
URL:https://valledellili.org/evento/simposio-coleccion-lili-reevaluando-el-proposito-de-la-educacion-escolar-frente-a-la-enfermedad/
LOCATION:Universidad Icesi\, Auditorio Argos\, Cl. 18 #122-135\, Cali
CATEGORIES:Educación,Eventos
ATTACH;FMTTYPE=image/png:https://valledellili.org/wp-content/uploads/2024/04/SIMP.-TRABAJO-SOCIAL-WEB-2-1.png
ORGANIZER;CN="Organiza Fundaci%C3%B3n Valle del Lili":MAILTO:info@valledellili.org
END:VEVENT
END:VCALENDAR