



BEGIN:VCALENDAR
VERSION:2.0
PRODID:-//Fundación Valle del Lili - ECPv6.15.13//NONSGML v1.0//EN
CALSCALE:GREGORIAN
METHOD:PUBLISH
X-WR-CALNAME:Fundación Valle del Lili
X-ORIGINAL-URL:https://valledellili.org
X-WR-CALDESC:Eventos para Fundación Valle del Lili
REFRESH-INTERVAL;VALUE=DURATION:PT1H
X-Robots-Tag:noindex
X-PUBLISHED-TTL:PT1H
BEGIN:VTIMEZONE
TZID:America/Bogota
BEGIN:STANDARD
TZOFFSETFROM:-0500
TZOFFSETTO:-0500
TZNAME:-05
DTSTART:20230101T000000
END:STANDARD
END:VTIMEZONE
BEGIN:VEVENT
DTSTART;TZID=America/Bogota:20240429T080000
DTEND;TZID=America/Bogota:20240512T170000
DTSTAMP:20260424T041040
CREATED:20240422T205512Z
LAST-MODIFIED:20240510T181949Z
UID:42406-1714377600-1715533200@valledellili.org
SUMMARY:Actividades de promoción y prevención
DESCRIPTION:¡Descubre cómo cuidar tu salud y la de tu familia con nuestras actividades de educación y prevención gratuitas! Únete a nosotros para aprender\, compartir y vivir experiencias que promueven un estilo de vida saludable.
URL:https://valledellili.org/evento/actividades-de-promocion-y-prevencion/
LOCATION:Locaciones Múltiples
CATEGORIES:Eventos,Paciente
ATTACH;FMTTYPE=image/jpeg:https://valledellili.org/wp-content/uploads/2024/04/Portada-Boletin-eventos-de-prevencion-y-promocion-scaled.jpg
END:VEVENT
BEGIN:VEVENT
DTSTART;TZID=America/Bogota:20240430T070000
DTEND;TZID=America/Bogota:20240430T170000
DTSTAMP:20260424T041040
CREATED:20240404T155052Z
LAST-MODIFIED:20240429T192851Z
UID:41961-1714460400-1714496400@valledellili.org
SUMMARY:1er congreso de actualidad cultural de la seguridad y salud en el trabajo bajo una mirada humanizante
DESCRIPTION:
URL:https://valledellili.org/evento/1er-congreso-de-actualidad-cultural-de-la-seguridad-y-salud-en-el-trabajo-bajo-una-mirada-humanizante/
LOCATION:Auditorio Principal Carlos Ardila Lulle\, Avenida Simón Bolivar Carrera 98 # 18-49\, Cali\, Valle\, Colombia
CATEGORIES:Educación,Eventos
ATTACH;FMTTYPE=image/jpeg:https://valledellili.org/wp-content/uploads/2024/04/CONG.-Seguridad-y-Salud-en-el-Trabajo-2024_BANNER-WEB.jpg
ORGANIZER;CN="Organiza Fundaci%C3%B3n Valle del Lili":MAILTO:info@valledellili.org
END:VEVENT
END:VCALENDAR