



BEGIN:VCALENDAR
VERSION:2.0
PRODID:-//Fundación Valle del Lili - ECPv6.15.13//NONSGML v1.0//EN
CALSCALE:GREGORIAN
METHOD:PUBLISH
X-ORIGINAL-URL:https://valledellili.org
X-WR-CALDESC:Eventos para Fundación Valle del Lili
REFRESH-INTERVAL;VALUE=DURATION:PT1H
X-Robots-Tag:noindex
X-PUBLISHED-TTL:PT1H
BEGIN:VTIMEZONE
TZID:America/Bogota
BEGIN:STANDARD
TZOFFSETFROM:-0500
TZOFFSETTO:-0500
TZNAME:-05
DTSTART:20230101T000000
END:STANDARD
END:VTIMEZONE
BEGIN:VEVENT
DTSTART;TZID=America/Bogota:20240605T080000
DTEND;TZID=America/Bogota:20240608T170000
DTSTAMP:20260424T022631
CREATED:20240402T152615Z
LAST-MODIFIED:20240605T143631Z
UID:41671-1717574400-1717866000@valledellili.org
SUMMARY:3er Congreso Internacional de Medicina de Emergencias y Reanimación - CIMER 2024
DESCRIPTION:
URL:https://valledellili.org/evento/cimer-2024/
LOCATION:Evento Híbrido
CATEGORIES:Educación,Eventos
ATTACH;FMTTYPE=image/png:https://valledellili.org/wp-content/uploads/2024/03/CIMER-2024-WEB2.png
ORGANIZER;CN="Organiza Fundaci%C3%B3n Valle del Lili":MAILTO:info@valledellili.org
END:VEVENT
END:VCALENDAR