



BEGIN:VCALENDAR
VERSION:2.0
PRODID:-//Fundación Valle del Lili - ECPv6.15.13//NONSGML v1.0//EN
CALSCALE:GREGORIAN
METHOD:PUBLISH
X-ORIGINAL-URL:https://valledellili.org
X-WR-CALDESC:Eventos para Fundación Valle del Lili
REFRESH-INTERVAL;VALUE=DURATION:PT1H
X-Robots-Tag:noindex
X-PUBLISHED-TTL:PT1H
BEGIN:VTIMEZONE
TZID:America/Bogota
BEGIN:STANDARD
TZOFFSETFROM:-0500
TZOFFSETTO:-0500
TZNAME:-05
DTSTART:20230101T000000
END:STANDARD
END:VTIMEZONE
BEGIN:VEVENT
DTSTART;TZID=America/Bogota:20240702T180000
DTEND;TZID=America/Bogota:20240702T190000
DTSTAMP:20260424T004749
CREATED:20240612T212609Z
LAST-MODIFIED:20240613T202930Z
UID:43293-1719943200-1719946800@valledellili.org
SUMMARY:39 Encuentro académico de radiología: Abordaje imagenológico del sangrado gastrointestinal: perlas y peligros de la interpretación.
DESCRIPTION:
URL:https://valledellili.org/evento/39-encuentro-academico-radiologia-julio/
LOCATION:Evento virtual
CATEGORIES:Educación,Eventos
ATTACH;FMTTYPE=image/png:https://valledellili.org/wp-content/uploads/2024/06/Encuentro-de-radiología-JUL-WEB-2-1.png
ORGANIZER;CN="Organiza Fundaci%C3%B3n Valle del Lili":MAILTO:info@valledellili.org
END:VEVENT
END:VCALENDAR