



BEGIN:VCALENDAR
VERSION:2.0
PRODID:-//Fundación Valle del Lili - ECPv6.15.13//NONSGML v1.0//EN
CALSCALE:GREGORIAN
METHOD:PUBLISH
X-ORIGINAL-URL:https://valledellili.org
X-WR-CALDESC:Eventos para Fundación Valle del Lili
REFRESH-INTERVAL;VALUE=DURATION:PT1H
X-Robots-Tag:noindex
X-PUBLISHED-TTL:PT1H
BEGIN:VTIMEZONE
TZID:America/Bogota
BEGIN:STANDARD
TZOFFSETFROM:-0500
TZOFFSETTO:-0500
TZNAME:-05
DTSTART:20230101T000000
END:STANDARD
END:VTIMEZONE
BEGIN:VEVENT
DTSTART;TZID=America/Bogota:20240806T180000
DTEND;TZID=America/Bogota:20240806T190000
DTSTAMP:20260423T232918
CREATED:20240722T195245Z
LAST-MODIFIED:20240722T195329Z
UID:43829-1722967200-1722970800@valledellili.org
SUMMARY:40 Encuentro académico de radiología tumores de células germinales: una mirada radiológica multimodal con correlación patológica.
DESCRIPTION:
URL:https://valledellili.org/evento/40-encuentro-radiologia-ago/
LOCATION:Evento virtual
CATEGORIES:Educación,Eventos
ATTACH;FMTTYPE=image/png:https://valledellili.org/wp-content/uploads/2024/07/Encuentro-de-radiología-AGO-WEB2.png
ORGANIZER;CN="Organiza Fundaci%C3%B3n Valle del Lili":MAILTO:info@valledellili.org
END:VEVENT
END:VCALENDAR