



BEGIN:VCALENDAR
VERSION:2.0
PRODID:-//Fundación Valle del Lili - ECPv6.15.13//NONSGML v1.0//EN
CALSCALE:GREGORIAN
METHOD:PUBLISH
X-ORIGINAL-URL:https://valledellili.org
X-WR-CALDESC:Eventos para Fundación Valle del Lili
REFRESH-INTERVAL;VALUE=DURATION:PT1H
X-Robots-Tag:noindex
X-PUBLISHED-TTL:PT1H
BEGIN:VTIMEZONE
TZID:America/Bogota
BEGIN:STANDARD
TZOFFSETFROM:-0500
TZOFFSETTO:-0500
TZNAME:-05
DTSTART:20230101T000000
END:STANDARD
END:VTIMEZONE
BEGIN:VEVENT
DTSTART;TZID=America/Bogota:20240912T080000
DTEND;TZID=America/Bogota:20240912T180000
DTSTAMP:20260423T202801
CREATED:20240826T211738Z
LAST-MODIFIED:20240826T211738Z
UID:44463-1726128000-1726164000@valledellili.org
SUMMARY:14 Día de la Referenciación Institucional
DESCRIPTION:
URL:https://valledellili.org/evento/14-dia-referenciacion-institucional/
LOCATION:Transmisión en vivo
CATEGORIES:Educación,Eventos
ATTACH;FMTTYPE=image/png:https://valledellili.org/wp-content/uploads/2024/08/14-Referenciación-en-Salud-WEB-2.png
ORGANIZER;CN="Organiza Fundaci%C3%B3n Valle del Lili":MAILTO:info@valledellili.org
END:VEVENT
BEGIN:VEVENT
DTSTART;TZID=America/Bogota:20240912T080000
DTEND;TZID=America/Bogota:20240913T160000
DTSTAMP:20260423T202801
CREATED:20240506T200925Z
LAST-MODIFIED:20240815T190319Z
UID:42601-1726128000-1726243200@valledellili.org
SUMMARY:5to Curso de Cirugía en Vivo - CCV 2024
DESCRIPTION:
URL:https://valledellili.org/evento/ccv-2024/
LOCATION:Auditorio Auxiliar\, Avenida Simón Bolivar Carrera 98 # 18-49\, Cali\, Valle
CATEGORIES:Eventos
ATTACH;FMTTYPE=image/png:https://valledellili.org/wp-content/uploads/2024/05/CCV-2024-WEB-EXT.png
ORGANIZER;CN="Organiza Fundaci%C3%B3n Valle del Lili":MAILTO:info@valledellili.org
END:VEVENT
END:VCALENDAR