



BEGIN:VCALENDAR
VERSION:2.0
PRODID:-//Fundación Valle del Lili - ECPv6.15.13//NONSGML v1.0//EN
CALSCALE:GREGORIAN
METHOD:PUBLISH
X-ORIGINAL-URL:https://valledellili.org
X-WR-CALDESC:Eventos para Fundación Valle del Lili
REFRESH-INTERVAL;VALUE=DURATION:PT1H
X-Robots-Tag:noindex
X-PUBLISHED-TTL:PT1H
BEGIN:VTIMEZONE
TZID:America/Bogota
BEGIN:STANDARD
TZOFFSETFROM:-0500
TZOFFSETTO:-0500
TZNAME:-05
DTSTART:20230101T000000
END:STANDARD
END:VTIMEZONE
BEGIN:VEVENT
DTSTART;TZID=America/Bogota:20240927T080000
DTEND;TZID=America/Bogota:20240927T180000
DTSTAMP:20260423T202801
CREATED:20240919T161019Z
LAST-MODIFIED:20240924T135323Z
UID:44957-1727424000-1727460000@valledellili.org
SUMMARY:2do Simposio de Radiología: Estrategias y herramientas para tecnólogos en la adquisición de estudios avanzados y de alta complejidad
DESCRIPTION:
URL:https://valledellili.org/evento/2-simposio-radiologia-2024/
LOCATION:Transmisión en vivo
CATEGORIES:Eventos
ATTACH;FMTTYPE=image/png:https://valledellili.org/wp-content/uploads/2024/09/Simposio-Tecnólogos-Radiología-2024-WEB-2.png
END:VEVENT
BEGIN:VEVENT
DTSTART;TZID=America/Bogota:20240927T080000
DTEND;TZID=America/Bogota:20240928T170000
DTSTAMP:20260423T202801
CREATED:20240527T223028Z
LAST-MODIFIED:20240926T202626Z
UID:42962-1727424000-1727542800@valledellili.org
SUMMARY:XVI Congreso de Radiología: abordaje integral en oncología - RADIOLILI 2024
DESCRIPTION:
URL:https://valledellili.org/evento/radiolili-2024/
LOCATION:Transmisión en vivo
CATEGORIES:Eventos
ATTACH;FMTTYPE=image/png:https://valledellili.org/wp-content/uploads/2024/05/XVI-CONG.-Radiologia-Oncologia-WEB-2.png
END:VEVENT
END:VCALENDAR