



BEGIN:VCALENDAR
VERSION:2.0
PRODID:-//Fundación Valle del Lili - ECPv6.15.13//NONSGML v1.0//EN
CALSCALE:GREGORIAN
METHOD:PUBLISH
X-ORIGINAL-URL:https://valledellili.org
X-WR-CALDESC:Eventos para Fundación Valle del Lili
REFRESH-INTERVAL;VALUE=DURATION:PT1H
X-Robots-Tag:noindex
X-PUBLISHED-TTL:PT1H
BEGIN:VTIMEZONE
TZID:America/Bogota
BEGIN:STANDARD
TZOFFSETFROM:-0500
TZOFFSETTO:-0500
TZNAME:-05
DTSTART:20240101T000000
END:STANDARD
END:VTIMEZONE
BEGIN:VEVENT
DTSTART;TZID=America/Bogota:20250603T180000
DTEND;TZID=America/Bogota:20250603T190000
DTSTAMP:20260423T062940
CREATED:20250522T152229Z
LAST-MODIFIED:20250522T153007Z
UID:48265-1748973600-1748977200@valledellili.org
SUMMARY:48 Encuentro académico de radiología - Enfermedades del tejido conectivo: Revelaciones en la tomografia de tórax
DESCRIPTION:
URL:https://valledellili.org/evento/48-encuentro-radiologia-junio/
LOCATION:Evento virtual
CATEGORIES:Educación,Eventos
ATTACH;FMTTYPE=image/png:https://valledellili.org/wp-content/uploads/2025/05/Encuentro-de-radiología-JUN-WEB-2.png
ORGANIZER;CN="Organiza Fundaci%C3%B3n Valle del Lili":MAILTO:info@valledellili.org
END:VEVENT
END:VCALENDAR