



BEGIN:VCALENDAR
VERSION:2.0
PRODID:-//Fundación Valle del Lili - ECPv6.15.13//NONSGML v1.0//EN
CALSCALE:GREGORIAN
METHOD:PUBLISH
X-WR-CALNAME:Fundación Valle del Lili
X-ORIGINAL-URL:https://valledellili.org
X-WR-CALDESC:Eventos para Fundación Valle del Lili
REFRESH-INTERVAL;VALUE=DURATION:PT1H
X-Robots-Tag:noindex
X-PUBLISHED-TTL:PT1H
BEGIN:VTIMEZONE
TZID:America/Bogota
BEGIN:STANDARD
TZOFFSETFROM:-0500
TZOFFSETTO:-0500
TZNAME:-05
DTSTART:20240101T000000
END:STANDARD
END:VTIMEZONE
BEGIN:VEVENT
DTSTART;TZID=America/Bogota:20250911T083000
DTEND;TZID=America/Bogota:20250912T180000
DTSTAMP:20260423T021452
CREATED:20250827T210856Z
LAST-MODIFIED:20250910T190850Z
UID:49019-1757579400-1757700000@valledellili.org
SUMMARY:Simposio de Actualización en Medicina Crítica y Cuidado Intensivo
DESCRIPTION:
URL:https://valledellili.org/evento/simposio-de-actualizacion-en-medicina-critica-y-cuidado-intensivo/
LOCATION:Auditorio Principal Carlos Ardila Lulle\, Avenida Simón Bolivar Carrera 98 # 18-49\, Cali\, Valle\, Colombia
CATEGORIES:Educación,Eventos
ATTACH;FMTTYPE=image/png:https://valledellili.org/wp-content/uploads/2025/08/WEB-1_SIMPOSIO-ACTUALIZ-MEDICINA-CRITICA-CUIDADO-INTENSIVO_1200X720.png
ORGANIZER;CN="Organiza Fundaci%C3%B3n Valle del Lili":MAILTO:info@valledellili.org
END:VEVENT
END:VCALENDAR