



BEGIN:VCALENDAR
VERSION:2.0
PRODID:-//Fundación Valle del Lili - ECPv6.15.13//NONSGML v1.0//EN
CALSCALE:GREGORIAN
METHOD:PUBLISH
X-ORIGINAL-URL:https://valledellili.org
X-WR-CALDESC:Eventos para Fundación Valle del Lili
REFRESH-INTERVAL;VALUE=DURATION:PT1H
X-Robots-Tag:noindex
X-PUBLISHED-TTL:PT1H
BEGIN:VTIMEZONE
TZID:America/Bogota
BEGIN:STANDARD
TZOFFSETFROM:-0500
TZOFFSETTO:-0500
TZNAME:-05
DTSTART:20220101T000000
END:STANDARD
END:VTIMEZONE
BEGIN:VEVENT
DTSTART;TZID=America/Bogota:20230511T160000
DTEND;TZID=America/Bogota:20230511T180000
DTSTAMP:20260424T222406
CREATED:20230425T202605Z
LAST-MODIFIED:20231103T155123Z
UID:36325-1683820800-1683828000@valledellili.org
SUMMARY:Conversatorio - Nutrición y  derechos humanos: Una reflexión desde la Bioética.
DESCRIPTION:
URL:https://valledellili.org/evento/nutricion-derechos-humanos/
LOCATION:Auditorio Auxiliar\, Avenida Simón Bolivar Carrera 98 # 18-49\, Cali\, Valle
CATEGORIES:Educación,Eventos
ATTACH;FMTTYPE=image/png:https://valledellili.org/wp-content/uploads/2023/04/MAY-Evento-Bioetica-WEB-2.png
ORGANIZER;CN="Organiza Fundaci%C3%B3n Valle del Lili":MAILTO:info@valledellili.org
END:VEVENT
BEGIN:VEVENT
DTSTART;TZID=America/Bogota:20230512T080000
DTEND;TZID=America/Bogota:20230512T170000
DTSTAMP:20260424T222406
CREATED:20230414T153222Z
LAST-MODIFIED:20230511T213643Z
UID:36108-1683878400-1683910800@valledellili.org
SUMMARY:Tercer Jornada Académica de Trasplantes
DESCRIPTION:
URL:https://valledellili.org/evento/tercer-jornada-academica-trasplantes/
LOCATION:Transmisión en vivo
CATEGORIES:Educación,Eventos
ATTACH;FMTTYPE=image/png:https://valledellili.org/wp-content/uploads/2023/04/3ra-jornada-de-trasplantes-WEB-2.png
ORGANIZER;CN="Organiza Fundaci%C3%B3n Valle del Lili":MAILTO:info@valledellili.org
END:VEVENT
BEGIN:VEVENT
DTSTART;TZID=America/Bogota:20230518T080000
DTEND;TZID=America/Bogota:20230519T170000
DTSTAMP:20260424T222406
CREATED:20230403T170852Z
LAST-MODIFIED:20230412T213406Z
UID:35850-1684396800-1684515600@valledellili.org
SUMMARY:XIV Congreso de Actualización en Pediatría: Saberes y conocimientos para niños sanos y felices
DESCRIPTION:
URL:https://valledellili.org/evento/xiv-congreso-actualizacion-pediatria/
LOCATION:Auditorio Principal Carlos Ardila Lulle\, Avenida Simón Bolivar Carrera 98 # 18-49\, Cali\, Valle\, Colombia
CATEGORIES:Educación,Eventos
ATTACH;FMTTYPE=image/png:https://valledellili.org/wp-content/uploads/2023/04/Actualizacion_Pediatria_BANNERS-WEB-2.png
ORGANIZER;CN="Organiza Fundaci%C3%B3n Valle del Lili":MAILTO:info@valledellili.org
END:VEVENT
BEGIN:VEVENT
DTSTART;TZID=America/Bogota:20230526T080000
DTEND;TZID=America/Bogota:20230527T180000
DTSTAMP:20260424T222406
CREATED:20230427T195444Z
LAST-MODIFIED:20230526T142517Z
UID:36371-1685088000-1685210400@valledellili.org
SUMMARY:XIV Curso-taller de actualización en anestesia y medicina perioperatoria.
DESCRIPTION:
URL:https://valledellili.org/evento/xiv-curso-taller-anestesia/
LOCATION:Auditorio Auxiliar\, Avenida Simón Bolivar Carrera 98 # 18-49\, Cali\, Valle
CATEGORIES:Educación,Eventos
ATTACH;FMTTYPE=image/png:https://valledellili.org/wp-content/uploads/2023/04/Curso-Anestesia-2023-WEB-2-2.png
ORGANIZER;CN="Organiza Fundaci%C3%B3n Valle del Lili":MAILTO:info@valledellili.org
END:VEVENT
END:VCALENDAR