



BEGIN:VCALENDAR
VERSION:2.0
PRODID:-//Fundación Valle del Lili - ECPv6.15.13//NONSGML v1.0//EN
CALSCALE:GREGORIAN
METHOD:PUBLISH
X-ORIGINAL-URL:https://valledellili.org
X-WR-CALDESC:Eventos para Fundación Valle del Lili
REFRESH-INTERVAL;VALUE=DURATION:PT1H
X-Robots-Tag:noindex
X-PUBLISHED-TTL:PT1H
BEGIN:VTIMEZONE
TZID:UTC
BEGIN:STANDARD
TZOFFSETFROM:+0000
TZOFFSETTO:+0000
TZNAME:UTC
DTSTART:20220101T000000
END:STANDARD
END:VTIMEZONE
BEGIN:VTIMEZONE
TZID:America/Bogota
BEGIN:STANDARD
TZOFFSETFROM:-0500
TZOFFSETTO:-0500
TZNAME:-05
DTSTART:20220101T000000
END:STANDARD
END:VTIMEZONE
BEGIN:VEVENT
DTSTART;TZID=UTC:20230701T100000
DTEND;TZID=UTC:20230701T123000
DTSTAMP:20260424T190024
CREATED:20230626T201058Z
LAST-MODIFIED:20230626T204624Z
UID:37264-1688205600-1688214600@valledellili.org
SUMMARY:Jornada académica de dermatología No. 58 - julio
DESCRIPTION:
URL:https://valledellili.org/evento/jornada-dermatologia-58-julio/
LOCATION:Evento virtual
CATEGORIES:Educación,Eventos
ATTACH;FMTTYPE=image/png:https://valledellili.org/wp-content/uploads/2023/06/Dermatologia-2023-JUL-WEB.png
ORGANIZER;CN="Organiza Fundaci%C3%B3n Valle del Lili":MAILTO:info@valledellili.org
END:VEVENT
BEGIN:VEVENT
DTSTART;TZID=America/Bogota:20230704T180000
DTEND;TZID=America/Bogota:20230704T190000
DTSTAMP:20260424T190024
CREATED:20230509T201703Z
LAST-MODIFIED:20230620T223254Z
UID:36537-1688493600-1688497200@valledellili.org
SUMMARY:XXIX Encuentro académico de radiología: Derivación portosistémica intrahepática transyugular: Tips para TIPSS
DESCRIPTION:
URL:https://valledellili.org/evento/xxix-encuentro-academico-radiologia-julio/
LOCATION:Evento virtual
CATEGORIES:Educación,Eventos
ATTACH;FMTTYPE=image/png:https://valledellili.org/wp-content/uploads/2023/05/Encuentro-de-radiologia-JUL-WEB-1.png
ORGANIZER;CN="Organiza Fundaci%C3%B3n Valle del Lili":MAILTO:info@valledellili.org
END:VEVENT
BEGIN:VEVENT
DTSTART;TZID=America/Bogota:20230706T170000
DTEND;TZID=America/Bogota:20230707T190000
DTSTAMP:20260424T190024
CREATED:20230628T151134Z
LAST-MODIFIED:20230628T151134Z
UID:37303-1688662800-1688756400@valledellili.org
SUMMARY:Webinar: Escenarios de emergencias cardiovasculares y neurológicas
DESCRIPTION:
URL:https://valledellili.org/evento/webinar-escenarios-de-emergencias/
LOCATION:Transmisión en vivo
CATEGORIES:Educación,Eventos
ATTACH;FMTTYPE=image/png:https://valledellili.org/wp-content/uploads/2023/06/Simposio-Emergencias-WEB-2.png
ORGANIZER;CN="Organiza Fundaci%C3%B3n Valle del Lili":MAILTO:info@valledellili.org
END:VEVENT
BEGIN:VEVENT
DTSTART;TZID=America/Bogota:20230714T080000
DTEND;TZID=America/Bogota:20230714T170000
DTSTAMP:20260424T190024
CREATED:20230705T211532Z
LAST-MODIFIED:20230707T180211Z
UID:37359-1689321600-1689354000@valledellili.org
SUMMARY:2 Simposio de Estrategias complementarias para el manejo del niño crítico
DESCRIPTION:
URL:https://valledellili.org/evento/2-simposio-estrategias-manejo-nino-critico/
LOCATION:Evento virtual
CATEGORIES:Educación,Eventos,Paciente
ATTACH;FMTTYPE=image/png:https://valledellili.org/wp-content/uploads/2023/07/Simposio-CRECEP-WEB-2.png
ORGANIZER;CN="Organiza Fundaci%C3%B3n Valle del Lili":MAILTO:info@valledellili.org
END:VEVENT
BEGIN:VEVENT
DTSTART;TZID=America/Bogota:20230718T140000
DTEND;TZID=America/Bogota:20230718T170000
DTSTAMP:20260424T190024
CREATED:20230621T195834Z
LAST-MODIFIED:20230717T205346Z
UID:37131-1689688800-1689699600@valledellili.org
SUMMARY:Simposio Educando para Cultivar la Compasión
DESCRIPTION:
URL:https://valledellili.org/evento/simp-educando-cultivar-compasion/
LOCATION:Auditorio Principal Carlos Ardila Lulle\, Avenida Simón Bolivar Carrera 98 # 18-49\, Cali\, Valle\, Colombia
CATEGORIES:Educación,Eventos
ATTACH;FMTTYPE=image/png:https://valledellili.org/wp-content/uploads/2023/06/Educando-para-cultivar-la-compasion-WEB-2.png
ORGANIZER;CN="Organiza Fundaci%C3%B3n Valle del Lili":MAILTO:info@valledellili.org
END:VEVENT
BEGIN:VEVENT
DTSTART;TZID=America/Bogota:20230728T080000
DTEND;TZID=America/Bogota:20230728T170000
DTSTAMP:20260424T190024
CREATED:20230713T164805Z
LAST-MODIFIED:20230725T204642Z
UID:37395-1690531200-1690563600@valledellili.org
SUMMARY:III Simposio Enfermería: Avances en servicios Intervencionistas: Cirugía\, Intervencionismo Vascular y Endoscopia.
DESCRIPTION:
URL:https://valledellili.org/evento/servicios-intervencionistas/
LOCATION:Transmisión en vivo
ATTACH;FMTTYPE=image/png:https://valledellili.org/wp-content/uploads/2023/07/Simposio_Enf.-intervensionismo-WEB-2.png
END:VEVENT
END:VCALENDAR