



BEGIN:VCALENDAR
VERSION:2.0
PRODID:-//Fundación Valle del Lili - ECPv6.15.13//NONSGML v1.0//EN
CALSCALE:GREGORIAN
METHOD:PUBLISH
X-ORIGINAL-URL:https://valledellili.org
X-WR-CALDESC:Eventos para Fundación Valle del Lili
REFRESH-INTERVAL;VALUE=DURATION:PT1H
X-Robots-Tag:noindex
X-PUBLISHED-TTL:PT1H
BEGIN:VTIMEZONE
TZID:America/Bogota
BEGIN:STANDARD
TZOFFSETFROM:-0500
TZOFFSETTO:-0500
TZNAME:-05
DTSTART:20220101T000000
END:STANDARD
END:VTIMEZONE
BEGIN:VEVENT
DTSTART;TZID=America/Bogota:20230901T140000
DTEND;TZID=America/Bogota:20230901T180000
DTSTAMP:20260424T155115
CREATED:20230719T195405Z
LAST-MODIFIED:20230719T195405Z
UID:37424-1693576800-1693591200@valledellili.org
SUMMARY:I Jornada Académica para Auxiliares de Central de Esterilización: Procesos seguros para nuestros pacientes
DESCRIPTION:
URL:https://valledellili.org/evento/i-jornada-academica-esterilizacion/
LOCATION:Auditorio Auxiliar\, Avenida Simón Bolivar Carrera 98 # 18-49\, Cali\, Valle
ATTACH;FMTTYPE=image/png:https://valledellili.org/wp-content/uploads/2023/07/Jornada-Central-de-esterilizacion-WEB-2.png
END:VEVENT
BEGIN:VEVENT
DTSTART;TZID=America/Bogota:20230905T180000
DTEND;TZID=America/Bogota:20230905T190000
DTSTAMP:20260424T155115
CREATED:20230824T163528Z
LAST-MODIFIED:20230824T163528Z
UID:37964-1693936800-1693940400@valledellili.org
SUMMARY:XXXI Encuentro académico de radiología: Descifrando los huesos: Enfoque radiológico de las displasias esqueléticas.
DESCRIPTION:
URL:https://valledellili.org/evento/xxxi-encuentro-radiologia/
LOCATION:Evento virtual
CATEGORIES:Educación,Eventos
ATTACH;FMTTYPE=image/png:https://valledellili.org/wp-content/uploads/2023/08/Encuentro-de-radiologia-SEP-WEB-2.png
ORGANIZER;CN="Organiza Fundaci%C3%B3n Valle del Lili":MAILTO:info@valledellili.org
END:VEVENT
BEGIN:VEVENT
DTSTART;TZID=America/Bogota:20230906T160000
DTEND;TZID=America/Bogota:20230906T170000
DTSTAMP:20260424T155115
CREATED:20230810T134239Z
LAST-MODIFIED:20230814T163151Z
UID:37692-1694016000-1694019600@valledellili.org
SUMMARY:Conferencia internacional: Duelo Perinatal\, Neonatal y Pediátrico
DESCRIPTION:
URL:https://valledellili.org/evento/conferencia-internacional-duelo-perinatal-neonatal-y-pediatrico/
LOCATION:Transmisión en vivo
CATEGORIES:Educación,Eventos
ATTACH;FMTTYPE=image/png:https://valledellili.org/wp-content/uploads/2023/08/Charla-Duelo-WEB-2.png
ORGANIZER;CN="Organiza Fundaci%C3%B3n Valle del Lili":MAILTO:info@valledellili.org
END:VEVENT
BEGIN:VEVENT
DTSTART;TZID=America/Bogota:20230915T080000
DTEND;TZID=America/Bogota:20230915T130000
DTSTAMP:20260424T155115
CREATED:20230829T201923Z
LAST-MODIFIED:20230911T214021Z
UID:38038-1694764800-1694782800@valledellili.org
SUMMARY:15° Día Internacional de la Seguridad del Paciente
DESCRIPTION:
URL:https://valledellili.org/evento/15-dia-inter-seguridad-paciente/
LOCATION:Auditorio Principal Carlos Ardila Lulle\, Avenida Simón Bolivar Carrera 98 # 18-49\, Cali\, Valle\, Colombia
ATTACH;FMTTYPE=image/png:https://valledellili.org/wp-content/uploads/2023/08/Seguridad-del-Paciente-2023-WEB-2.png
END:VEVENT
BEGIN:VEVENT
DTSTART;TZID=America/Bogota:20230921T080000
DTEND;TZID=America/Bogota:20230922T180000
DTSTAMP:20260424T155115
CREATED:20230725T194806Z
LAST-MODIFIED:20230920T194228Z
UID:37439-1695283200-1695405600@valledellili.org
SUMMARY:5° Simposio de Actualización en el Cuidado Perinatal
DESCRIPTION:
URL:https://valledellili.org/evento/5-simposio-de-actualizacion-en-el-cuidado-perinatal/
LOCATION:Auditorio Principal Carlos Ardila Lulle\, Avenida Simón Bolivar Carrera 98 # 18-49\, Cali\, Valle\, Colombia
CATEGORIES:Educación,Eventos
ATTACH;FMTTYPE=image/png:https://valledellili.org/wp-content/uploads/2023/07/5to-simposio-de-cuidado-perinatal-WEB-2.png
END:VEVENT
BEGIN:VEVENT
DTSTART;TZID=America/Bogota:20230929T070000
DTEND;TZID=America/Bogota:20230930T170000
DTSTAMP:20260424T155115
CREATED:20230719T160831Z
LAST-MODIFIED:20230925T205205Z
UID:37415-1695970800-1696093200@valledellili.org
SUMMARY:XV Congreso de Radiología Fundación Valle del Lili (RADIOLILI)
DESCRIPTION:
URL:https://valledellili.org/evento/xv-congreso-radiolili/
LOCATION:Evento Híbrido
CATEGORIES:Educación,Eventos
ATTACH;FMTTYPE=image/png:https://valledellili.org/wp-content/uploads/2023/07/XV-Congreso-de-Radiologia-WEB-2-1.png
END:VEVENT
END:VCALENDAR