



BEGIN:VCALENDAR
VERSION:2.0
PRODID:-//Fundación Valle del Lili - ECPv6.15.13//NONSGML v1.0//EN
CALSCALE:GREGORIAN
METHOD:PUBLISH
X-ORIGINAL-URL:https://valledellili.org
X-WR-CALDESC:Eventos para Fundación Valle del Lili
REFRESH-INTERVAL;VALUE=DURATION:PT1H
X-Robots-Tag:noindex
X-PUBLISHED-TTL:PT1H
BEGIN:VTIMEZONE
TZID:America/Bogota
BEGIN:STANDARD
TZOFFSETFROM:-0500
TZOFFSETTO:-0500
TZNAME:-05
DTSTART:20230101T000000
END:STANDARD
END:VTIMEZONE
BEGIN:VTIMEZONE
TZID:UTC
BEGIN:STANDARD
TZOFFSETFROM:+0000
TZOFFSETTO:+0000
TZNAME:UTC
DTSTART:20230101T000000
END:STANDARD
END:VTIMEZONE
BEGIN:VEVENT
DTSTART;TZID=America/Bogota:20241003T080000
DTEND;TZID=America/Bogota:20241004T170000
DTSTAMP:20260423T171353
CREATED:20240912T200249Z
LAST-MODIFIED:20240920T230649Z
UID:44800-1727942400-1728061200@valledellili.org
SUMMARY:2º Congreso de Rehabilitación Integral de Alta Complejidad: Elevando los estándares\, transformando vidas
DESCRIPTION:
URL:https://valledellili.org/evento/2-congreso-rehabilitacion-ac-2024/
LOCATION:Auditorio Principal Carlos Ardila Lulle\, Avenida Simón Bolivar Carrera 98 # 18-49\, Cali\, Valle\, Colombia
CATEGORIES:Educación,Eventos
ATTACH;FMTTYPE=image/png:https://valledellili.org/wp-content/uploads/2024/09/CONG_REHABILITACIÓN-WEB-1.png
ORGANIZER;CN="Organiza Fundaci%C3%B3n Valle del Lili":MAILTO:info@valledellili.org
END:VEVENT
BEGIN:VEVENT
DTSTART;TZID=UTC:20241005T100000
DTEND;TZID=UTC:20241005T123000
DTSTAMP:20260423T171353
CREATED:20240920T230542Z
LAST-MODIFIED:20240923T152707Z
UID:44921-1728122400-1728131400@valledellili.org
SUMMARY:Jornada académica de dermatología No. 71-Octubre
DESCRIPTION:
URL:https://valledellili.org/evento/jornada-dermatologia-oct-2024/
LOCATION:Evento virtual
CATEGORIES:Educación,Eventos
ATTACH;FMTTYPE=image/png:https://valledellili.org/wp-content/uploads/2024/09/Dermatologia-2024-OCT-WEB.png
ORGANIZER;CN="Organiza Fundaci%C3%B3n Valle del Lili":MAILTO:info@valledellili.org
END:VEVENT
BEGIN:VEVENT
DTSTART;TZID=America/Bogota:20241009T050000
DTEND;TZID=America/Bogota:20241009T190000
DTSTAMP:20260423T171353
CREATED:20240815T183618Z
LAST-MODIFIED:20240815T184208Z
UID:44255-1728450000-1728500400@valledellili.org
SUMMARY:Ceremonia de la luz al donante - 2024
DESCRIPTION:  \nDesde la unidad de donación y trasplantes de órganos de la Fundación Valle del Lili\, se dan los agradecimientos a los verdaderos artífices del milagro de los trasplantes. Enalteciendo a los donantes y sus familias\, por tomar la decisión altruista y generosa de pensar en dar vida a los demás. \nCada año\, se desea realizar una invitación especial a toda la comunidad que quiera participar en un merecido homenaje a estos héroes anónimos y sus familias\, con un evento al que llamamos la Ceremonia de la Luz al Donante que se llevará a cabo este 9 de octubre del 2024 de 5:00 a 7:00 pm en el auditorio principal de la Fundación Valle Del Lili\, contamos con su participación para que cada día sean más los artífices de vida. \n¡Te esperamos para que juntos agradezcamos a los donantes y sus familias! \nCupo limitado
URL:https://valledellili.org/evento/ceremonia-luz-donante-2024/
LOCATION:Auditorio Principal Carlos Ardila Lulle\, Avenida Simón Bolivar Carrera 98 # 18-49\, Cali\, Valle\, Colombia
CATEGORIES:Educación,Eventos
ATTACH;FMTTYPE=image/png:https://valledellili.org/wp-content/uploads/2024/08/EVENTO-NOMBRE-CEREMONIA-LUZ-2024.png
END:VEVENT
BEGIN:VEVENT
DTSTART;TZID=America/Bogota:20241010T080000
DTEND;TZID=America/Bogota:20241011T160000
DTSTAMP:20260423T171353
CREATED:20240924T150828Z
LAST-MODIFIED:20241008T201049Z
UID:45058-1728547200-1728662400@valledellili.org
SUMMARY:2º Simposio de Abordaje Integral de las Heridas: Un modelo de cuidado centrado en la persona
DESCRIPTION:
URL:https://valledellili.org/evento/2-simposio-heridas-2024/
LOCATION:Evento virtual
CATEGORIES:Educación,Eventos
ATTACH;FMTTYPE=image/png:https://valledellili.org/wp-content/uploads/2024/09/SIMPOSIO_HERIDAS-2024-WEB-2.png
ORGANIZER;CN="Organiza Fundaci%C3%B3n Valle del Lili":MAILTO:info@valledellili.org
END:VEVENT
BEGIN:VEVENT
DTSTART;TZID=America/Bogota:20241017T183000
DTEND;TZID=America/Bogota:20241017T210000
DTSTAMP:20260423T171353
CREATED:20240904T214259Z
LAST-MODIFIED:20240918T193411Z
UID:44597-1729189800-1729198800@valledellili.org
SUMMARY:Noche Rosada 2024
DESCRIPTION:¡Es un placer invitarte a la Noche Rosada 2024! Un evento dedicado a las mujeres que aman la vida y que se preocupan por su bienestar. Este octubre\, el día 17\, celebraremos los veinte años de esta maravillosa velada. \nEn esta ocasión\, queremos resaltar la trayectoria del evento\, año tras año\, buscando cuidar a las mujeres que aman la vida. Acompáñanos a las 6:30 p.m. en el Hotel Dann Carlton\, Cra. 2 #1-60. Ten en cuenta que el aforo es limitado\, así que asegura tu lugar separando tu cupo en el enlace que proporcionamos. \nTe esperamos en la Noche Rosada 2024.  \n\n\nRequisitos: Asistir con camiseta fucsia o rosada.\nFecha: Octubre 17 de 2024\nHora: 6:30 p.m.\nLugar: Hotel Dann Carlton\, Cra. 2 #1-60.\n\nLink  de Registro: https://peewah.co/events/noche-rosada-2024\n\n  \n 
URL:https://valledellili.org/evento/noche-rosada-2024/
LOCATION:Hotel Dan Carlton\, Cra. 2 #1-60 Barrio el Peñón\, Cali\, Valle
CATEGORIES:Paciente
ATTACH;FMTTYPE=image/png:https://valledellili.org/wp-content/uploads/2024/09/noche-rosada_final-web.png
END:VEVENT
BEGIN:VEVENT
DTSTART;VALUE=DATE:20241022
DTEND;VALUE=DATE:20241110
DTSTAMP:20260423T171353
CREATED:20240815T191703Z
LAST-MODIFIED:20240815T191703Z
UID:44264-1729555200-1731196799@valledellili.org
SUMMARY:XVII Congreso Internacional de Cardiología - CARDIOLILI 2024
DESCRIPTION:
URL:https://valledellili.org/evento/cardiolili-2024/
LOCATION:Evento Híbrido
CATEGORIES:Educación,Eventos
ATTACH;FMTTYPE=image/png:https://valledellili.org/wp-content/uploads/2024/08/Cardiolili-2024-WEB-2.png
ORGANIZER;CN="Organiza Fundaci%C3%B3n Valle del Lili":MAILTO:info@valledellili.org
END:VEVENT
END:VCALENDAR