



BEGIN:VCALENDAR
VERSION:2.0
PRODID:-//Fundación Valle del Lili - ECPv6.15.13//NONSGML v1.0//EN
CALSCALE:GREGORIAN
METHOD:PUBLISH
X-ORIGINAL-URL:https://valledellili.org
X-WR-CALDESC:Eventos para Fundación Valle del Lili
REFRESH-INTERVAL;VALUE=DURATION:PT1H
X-Robots-Tag:noindex
X-PUBLISHED-TTL:PT1H
BEGIN:VTIMEZONE
TZID:America/Bogota
BEGIN:STANDARD
TZOFFSETFROM:-0500
TZOFFSETTO:-0500
TZNAME:-05
DTSTART:20230101T000000
END:STANDARD
END:VTIMEZONE
BEGIN:VTIMEZONE
TZID:UTC
BEGIN:STANDARD
TZOFFSETFROM:+0000
TZOFFSETTO:+0000
TZNAME:UTC
DTSTART:20230101T000000
END:STANDARD
END:VTIMEZONE
BEGIN:VEVENT
DTSTART;TZID=America/Bogota:20241203T180000
DTEND;TZID=America/Bogota:20241203T190000
DTSTAMP:20260423T141443
CREATED:20241122T162621Z
LAST-MODIFIED:20241122T222834Z
UID:46208-1733248800-1733252400@valledellili.org
SUMMARY:43 Encuentro académico de radiología - Espectroscopia por Resonancia: Principios básicos y TIPS
DESCRIPTION:
URL:https://valledellili.org/evento/43-encuentro-radiologia-dic-2024/
LOCATION:Evento virtual
CATEGORIES:Educación,Eventos
ATTACH;FMTTYPE=image/png:https://valledellili.org/wp-content/uploads/2024/11/Encuentro-de-radiología-DIC-WEB-2.png
ORGANIZER;CN="Organiza Fundaci%C3%B3n Valle del Lili":MAILTO:info@valledellili.org
END:VEVENT
BEGIN:VEVENT
DTSTART;TZID=UTC:20241207T100000
DTEND;TZID=UTC:20241207T123000
DTSTAMP:20260423T141443
CREATED:20241206T154245Z
LAST-MODIFIED:20250131T171559Z
UID:46384-1733565600-1733574600@valledellili.org
SUMMARY:Jornada académica de dermatología No. 73-Diciembre
DESCRIPTION:
URL:https://valledellili.org/evento/jornada-dermatologia-73-diciembre/
LOCATION:Evento virtual
CATEGORIES:Educación,Eventos
ATTACH;FMTTYPE=image/png:https://valledellili.org/wp-content/uploads/2024/09/Dermatologia-2024-OCT-WEB.png
ORGANIZER;CN="Organiza Fundaci%C3%B3n Valle del Lili":MAILTO:info@valledellili.org
END:VEVENT
END:VCALENDAR