



BEGIN:VCALENDAR
VERSION:2.0
PRODID:-//Fundación Valle del Lili - ECPv6.15.13//NONSGML v1.0//EN
CALSCALE:GREGORIAN
METHOD:PUBLISH
X-WR-CALNAME:Fundación Valle del Lili
X-ORIGINAL-URL:https://valledellili.org
X-WR-CALDESC:Eventos para Fundación Valle del Lili
REFRESH-INTERVAL;VALUE=DURATION:PT1H
X-Robots-Tag:noindex
X-PUBLISHED-TTL:PT1H
BEGIN:VTIMEZONE
TZID:America/Bogota
BEGIN:STANDARD
TZOFFSETFROM:-0500
TZOFFSETTO:-0500
TZNAME:-05
DTSTART:20240101T000000
END:STANDARD
END:VTIMEZONE
BEGIN:VEVENT
DTSTART;TZID=America/Bogota:20250805T180000
DTEND;TZID=America/Bogota:20250805T190000
DTSTAMP:20260423T021343
CREATED:20250522T213633Z
LAST-MODIFIED:20250522T213633Z
UID:48287-1754416800-1754420400@valledellili.org
SUMMARY:50 Encuentro académico de radiología - Abordaje de las lesiones renales asintomáticas: lo que el urólogo debe saber
DESCRIPTION:
URL:https://valledellili.org/evento/50-encuentro-radiologia-agosto/
LOCATION:Evento virtual
CATEGORIES:Educación,Eventos
ATTACH;FMTTYPE=image/png:https://valledellili.org/wp-content/uploads/2025/05/Encuentro-de-radiología-AGO-WEB-2.png
ORGANIZER;CN="Organiza Fundaci%C3%B3n Valle del Lili":MAILTO:info@valledellili.org
END:VEVENT
BEGIN:VEVENT
DTSTART;TZID=America/Bogota:20250813T080000
DTEND;TZID=America/Bogota:20250813T120000
DTSTAMP:20260423T021343
CREATED:20250627T201432Z
LAST-MODIFIED:20250806T193153Z
UID:48579-1755072000-1755086400@valledellili.org
SUMMARY:Cuidar el cuerpo\, escuchar el alma: Diálogos humanos en la medicina centrada en las personas.
DESCRIPTION:
URL:https://valledellili.org/evento/dialogos-humanos/
LOCATION:Auditorio Principal Carlos Ardila Lulle\, Avenida Simón Bolivar Carrera 98 # 18-49\, Cali\, Valle\, Colombia
CATEGORIES:Educación,Eventos
ATTACH;FMTTYPE=image/png:https://valledellili.org/wp-content/uploads/2025/06/Evento-FVL-Cuidar-el-cuerpo-es-cuidar-el-alma.png
ORGANIZER;CN="Organiza Fundaci%C3%B3n Valle del Lili":MAILTO:info@valledellili.org
END:VEVENT
BEGIN:VEVENT
DTSTART;TZID=America/Bogota:20250821T070000
DTEND;TZID=America/Bogota:20250821T180000
DTSTAMP:20260423T021343
CREATED:20250618T153825Z
LAST-MODIFIED:20250625T193856Z
UID:48448-1755759600-1755799200@valledellili.org
SUMMARY:Seminario de  Auditoría Médica: Transformando la práctica clínica
DESCRIPTION:
URL:https://valledellili.org/evento/seminario-auditoria-medica-2025/
LOCATION:Auditorio Principal Carlos Ardila Lulle\, Avenida Simón Bolivar Carrera 98 # 18-49\, Cali\, Valle\, Colombia
CATEGORIES:Educación,Eventos
ATTACH;FMTTYPE=image/png:https://valledellili.org/wp-content/uploads/2025/06/CONGRESO-AUDITORIA-MEDICA-WEB-2.png
ORGANIZER;CN="Organiza Fundaci%C3%B3n Valle del Lili":MAILTO:info@valledellili.org
END:VEVENT
END:VCALENDAR