



BEGIN:VCALENDAR
VERSION:2.0
PRODID:-//Fundación Valle del Lili - ECPv6.15.13//NONSGML v1.0//EN
CALSCALE:GREGORIAN
METHOD:PUBLISH
X-WR-CALNAME:Fundación Valle del Lili
X-ORIGINAL-URL:https://valledellili.org
X-WR-CALDESC:Eventos para Fundación Valle del Lili
REFRESH-INTERVAL;VALUE=DURATION:PT1H
X-Robots-Tag:noindex
X-PUBLISHED-TTL:PT1H
BEGIN:VTIMEZONE
TZID:America/Bogota
BEGIN:STANDARD
TZOFFSETFROM:-0500
TZOFFSETTO:-0500
TZNAME:-05
DTSTART:20240101T000000
END:STANDARD
END:VTIMEZONE
BEGIN:VEVENT
DTSTART;TZID=America/Bogota:20250902T180000
DTEND;TZID=America/Bogota:20250902T190000
DTSTAMP:20260423T004750
CREATED:20250522T214119Z
LAST-MODIFIED:20250522T214119Z
UID:48294-1756836000-1756839600@valledellili.org
SUMMARY:51 Encuentro académico de radiología - El enigma apendicular: Diagnóstico radiológico desde la inflamación hasta lo inesperado
DESCRIPTION:
URL:https://valledellili.org/evento/51-encuentro-radiologia-2025/
LOCATION:Evento virtual
CATEGORIES:Educación,Eventos
ATTACH;FMTTYPE=image/png:https://valledellili.org/wp-content/uploads/2025/05/Encuentro-de-radiología-SEP-WEB-2.png
ORGANIZER;CN="Organiza Fundaci%C3%B3n Valle del Lili":MAILTO:info@valledellili.org
END:VEVENT
BEGIN:VEVENT
DTSTART;TZID=America/Bogota:20250911T083000
DTEND;TZID=America/Bogota:20250912T180000
DTSTAMP:20260423T004751
CREATED:20250827T210856Z
LAST-MODIFIED:20250910T190850Z
UID:49019-1757579400-1757700000@valledellili.org
SUMMARY:Simposio de Actualización en Medicina Crítica y Cuidado Intensivo
DESCRIPTION:
URL:https://valledellili.org/evento/simposio-de-actualizacion-en-medicina-critica-y-cuidado-intensivo/
LOCATION:Auditorio Principal Carlos Ardila Lulle\, Avenida Simón Bolivar Carrera 98 # 18-49\, Cali\, Valle\, Colombia
CATEGORIES:Educación,Eventos
ATTACH;FMTTYPE=image/png:https://valledellili.org/wp-content/uploads/2025/08/WEB-1_SIMPOSIO-ACTUALIZ-MEDICINA-CRITICA-CUIDADO-INTENSIVO_1200X720.png
ORGANIZER;CN="Organiza Fundaci%C3%B3n Valle del Lili":MAILTO:info@valledellili.org
END:VEVENT
BEGIN:VEVENT
DTSTART;VALUE=DATE:20250926
DTEND;VALUE=DATE:20250928
DTSTAMP:20260423T004751
CREATED:20250808T190907Z
LAST-MODIFIED:20251008T165746Z
UID:48865-1758844800-1759017599@valledellili.org
SUMMARY:XVII Congreso de radiología - RADIOLILI 2025
DESCRIPTION:
URL:https://valledellili.org/evento/xvii-congreso-de-radiologia-radiolili-2025/
LOCATION:Evento Híbrido
CATEGORIES:Educación,Eventos
ATTACH;FMTTYPE=image/jpeg:https://valledellili.org/wp-content/uploads/2025/08/Portada-evento-xvii-cingreso-de-radiologia.jpg
END:VEVENT
END:VCALENDAR